Package: parody Version: 1.65.2002 Maintainer: Vince Carey MaintainerEmail: stvjc at channing.harvard.edu git_url: https://git.bioconductor.org/packages/parody git_branch: devel git_last_commit: ce11c41 git_last_commit_date: 2025-02-11 06:19:39 -0500 (Tue, 11 Feb 2025)