Package: parglms Version: 1.39.0 Command: /Library/Frameworks/R.framework/Resources/bin/R CMD build --keep-empty-dirs --no-resave-data parglms StartedAt: 2025-02-18 17:42:06 -0500 (Tue, 18 Feb 2025) EndedAt: 2025-02-18 17:42:49 -0500 (Tue, 18 Feb 2025) EllapsedTime: 42.6 seconds RetCode: 0 Status: OK PackageFile: parglms_1.39.0.tar.gz PackageFileSize: 273.8 KiB