Package: parglms Version: 1.39.0 Command: rm -rf parglms.buildbin-libdir && mkdir parglms.buildbin-libdir && /Users/biocbuild/BBS/utils/build-universal.sh parglms_1.39.0.tar.gz /Library/Frameworks/R.framework/Resources/bin/R parglms.buildbin-libdir StartedAt: 2025-02-19 00:38:52 -0500 (Wed, 19 Feb 2025) EndedAt: 2025-02-19 00:39:00 -0500 (Wed, 19 Feb 2025) EllapsedTime: 8.1 seconds RetCode: 0 Status: OK PackageFile: parglms_1.39.0.tgz PackageFileSize: 295.5 KiB