Package: pareg Version: 1.11.1 Command: /home/biocbuild/bbs-3.21-bioc/R/bin/R CMD INSTALL pareg StartedAt: 2025-02-20 15:57:55 -0500 (Thu, 20 Feb 2025) EndedAt: 2025-02-20 15:58:13 -0500 (Thu, 20 Feb 2025) EllapsedTime: 18.2 seconds RetCode: 0 Status: OK