Package: pareg Version: 1.11.1 Command: /Library/Frameworks/R.framework/Resources/bin/R CMD INSTALL pareg StartedAt: 2025-02-19 15:31:49 -0500 (Wed, 19 Feb 2025) EndedAt: 2025-02-19 15:32:16 -0500 (Wed, 19 Feb 2025) EllapsedTime: 27.3 seconds RetCode: 0 Status: OK