Package: pareg Version: 1.11.1 Command: /Library/Frameworks/R.framework/Resources/bin/R CMD build --keep-empty-dirs --no-resave-data pareg StartedAt: 2025-02-19 17:43:52 -0500 (Wed, 19 Feb 2025) EndedAt: 2025-02-19 17:46:48 -0500 (Wed, 19 Feb 2025) EllapsedTime: 176.1 seconds RetCode: 1 Status: ERROR PackageFile: None PackageFileSize: NA