Package: panp Version: 1.77.0 Command: E:\biocbuild\bbs-3.21-bioc\R\bin\R.exe CMD INSTALL panp StartedAt: 2025-02-20 15:25:45 -0500 (Thu, 20 Feb 2025) EndedAt: 2025-02-20 15:25:51 -0500 (Thu, 20 Feb 2025) EllapsedTime: 5.9 seconds RetCode: 0 Status: OK