Package: panp Version: 1.77.0 Command: E:\biocbuild\bbs-3.21-bioc\R\bin\R.exe CMD check --no-multiarch --install=check:panp.install-out.txt --library=E:\biocbuild\bbs-3.21-bioc\R\library --no-vignettes --timings panp_1.77.0.tar.gz StartedAt: 2025-02-21 04:13:11 -0500 (Fri, 21 Feb 2025) EndedAt: 2025-02-21 04:14:12 -0500 (Fri, 21 Feb 2025) EllapsedTime: 61.5 seconds RetCode: 0 Status: OK CheckDir: panp.Rcheck Warnings: 0