Package: panp Version: 1.77.0 Command: chmod a+r panp -R && E:\biocbuild\bbs-3.21-bioc\R\bin\R.exe CMD build --keep-empty-dirs --no-resave-data panp StartedAt: 2025-02-20 20:39:47 -0500 (Thu, 20 Feb 2025) EndedAt: 2025-02-20 20:40:05 -0500 (Thu, 20 Feb 2025) EllapsedTime: 17.9 seconds RetCode: 0 Status: OK PackageFile: panp_1.77.0.tar.gz PackageFileSize: 512.2 KiB