Package: panelcn.mops Version: 1.29.0 Command: E:\biocbuild\bbs-3.21-bioc\R\bin\R.exe CMD INSTALL panelcn.mops StartedAt: 2025-02-20 15:46:42 -0500 (Thu, 20 Feb 2025) EndedAt: 2025-02-20 15:47:17 -0500 (Thu, 20 Feb 2025) EllapsedTime: 35.0 seconds RetCode: 0 Status: OK