Package: panelcn.mops Version: 1.29.0 Command: E:\biocbuild\bbs-3.21-bioc\R\bin\R.exe CMD check --no-multiarch --install=check:panelcn.mops.install-out.txt --library=E:\biocbuild\bbs-3.21-bioc\R\library --no-vignettes --timings panelcn.mops_1.29.0.tar.gz StartedAt: 2025-02-21 04:13:04 -0500 (Fri, 21 Feb 2025) EndedAt: 2025-02-21 04:15:34 -0500 (Fri, 21 Feb 2025) EllapsedTime: 150.4 seconds RetCode: 0 Status: OK CheckDir: panelcn.mops.Rcheck Warnings: 0