Package: panelcn.mops Version: 1.29.0 Command: rm -rf panelcn.mops.buildbin-libdir && mkdir panelcn.mops.buildbin-libdir && E:\biocbuild\bbs-3.21-bioc\R\bin\R.exe CMD INSTALL --build --library=panelcn.mops.buildbin-libdir panelcn.mops_1.29.0.tar.gz StartedAt: 2025-02-21 08:43:54 -0500 (Fri, 21 Feb 2025) EndedAt: 2025-02-21 08:44:29 -0500 (Fri, 21 Feb 2025) EllapsedTime: 35.1 seconds RetCode: 0 Status: OK PackageFile: panelcn.mops_1.29.0.zip PackageFileSize: 431.1 KiB