Package: pandaR Version: 1.39.0 Command: E:\biocbuild\bbs-3.21-bioc\R\bin\R.exe CMD check --no-multiarch --install=check:pandaR.install-out.txt --library=E:\biocbuild\bbs-3.21-bioc\R\library --no-vignettes --timings pandaR_1.39.0.tar.gz StartedAt: 2025-02-21 04:12:15 -0500 (Fri, 21 Feb 2025) EndedAt: 2025-02-21 04:14:19 -0500 (Fri, 21 Feb 2025) EllapsedTime: 124.0 seconds RetCode: 0 Status: WARNINGS CheckDir: pandaR.Rcheck Warnings: 2