Package: pandaR Version: 1.39.0 Command: rm -rf pandaR.buildbin-libdir && mkdir pandaR.buildbin-libdir && E:\biocbuild\bbs-3.21-bioc\R\bin\R.exe CMD INSTALL --build --library=pandaR.buildbin-libdir pandaR_1.39.0.tar.gz StartedAt: 2025-02-21 08:43:53 -0500 (Fri, 21 Feb 2025) EndedAt: 2025-02-21 08:44:10 -0500 (Fri, 21 Feb 2025) EllapsedTime: 17.1 seconds RetCode: 0 Status: OK PackageFile: pandaR_1.39.0.zip PackageFileSize: 9.076 MiB