Package: pandaR Version: 1.39.0 Command: /Library/Frameworks/R.framework/Resources/bin/R CMD check --install=check:pandaR.install-out.txt --library=/Library/Frameworks/R.framework/Resources/library --no-vignettes --timings pandaR_1.39.0.tar.gz StartedAt: 2025-02-19 22:14:28 -0500 (Wed, 19 Feb 2025) EndedAt: 2025-02-19 22:17:02 -0500 (Wed, 19 Feb 2025) EllapsedTime: 153.6 seconds RetCode: 0 Status: WARNINGS CheckDir: pandaR.Rcheck Warnings: 2