Package: pandaR Version: 1.39.0 Command: /Library/Frameworks/R.framework/Resources/bin/R CMD build --keep-empty-dirs --no-resave-data pandaR StartedAt: 2025-02-20 17:42:15 -0500 (Thu, 20 Feb 2025) EndedAt: 2025-02-20 17:43:24 -0500 (Thu, 20 Feb 2025) EllapsedTime: 68.2 seconds RetCode: 0 Status: OK PackageFile: pandaR_1.39.0.tar.gz PackageFileSize: 8.683 MiB