Package: pairkat Version: 1.13.0 Command: /Library/Frameworks/R.framework/Resources/bin/R CMD INSTALL pairkat StartedAt: 2025-02-19 15:09:33 -0500 (Wed, 19 Feb 2025) EndedAt: 2025-02-19 15:10:05 -0500 (Wed, 19 Feb 2025) EllapsedTime: 32.0 seconds RetCode: 0 Status: OK