Package: pairkat Version: 1.13.0 Command: /Library/Frameworks/R.framework/Resources/bin/R CMD build --keep-empty-dirs --no-resave-data pairkat StartedAt: 2025-02-19 17:42:40 -0500 (Wed, 19 Feb 2025) EndedAt: 2025-02-19 17:46:05 -0500 (Wed, 19 Feb 2025) EllapsedTime: 204.6 seconds RetCode: 0 Status: OK PackageFile: pairkat_1.13.0.tar.gz PackageFileSize: 822.7 KiB