Package: pairedGSEA Version: 1.7.0 Command: E:\biocbuild\bbs-3.21-bioc\R\bin\R.exe CMD INSTALL pairedGSEA StartedAt: 2025-02-20 16:13:59 -0500 (Thu, 20 Feb 2025) EndedAt: 2025-02-20 16:14:48 -0500 (Thu, 20 Feb 2025) EllapsedTime: 49.2 seconds RetCode: 0 Status: OK