Package: pairedGSEA Version: 1.7.0 Command: chmod a+r pairedGSEA -R && E:\biocbuild\bbs-3.21-bioc\R\bin\R.exe CMD build --keep-empty-dirs --no-resave-data pairedGSEA StartedAt: 2025-02-20 20:38:28 -0500 (Thu, 20 Feb 2025) EndedAt: 2025-02-20 20:41:02 -0500 (Thu, 20 Feb 2025) EllapsedTime: 153.4 seconds RetCode: 0 Status: OK PackageFile: pairedGSEA_1.7.0.tar.gz PackageFileSize: 517.9 KiB