Package: pairedGSEA Version: 1.7.0 Command: rm -rf pairedGSEA.buildbin-libdir && mkdir pairedGSEA.buildbin-libdir && /Users/biocbuild/BBS/utils/build-universal.sh pairedGSEA_1.7.0.tar.gz /Library/Frameworks/R.framework/Resources/bin/R pairedGSEA.buildbin-libdir StartedAt: 2025-02-21 00:44:34 -0500 (Fri, 21 Feb 2025) EndedAt: 2025-02-21 00:45:21 -0500 (Fri, 21 Feb 2025) EllapsedTime: 47.6 seconds RetCode: 0 Status: OK PackageFile: pairedGSEA_1.7.0.tgz PackageFileSize: 651.1 KiB