Package: pairedGSEA Version: 1.7.0 Command: /Library/Frameworks/R.framework/Resources/bin/R CMD build --keep-empty-dirs --no-resave-data pairedGSEA StartedAt: 2025-02-20 17:11:48 -0500 (Thu, 20 Feb 2025) EndedAt: 2025-02-20 17:12:48 -0500 (Thu, 20 Feb 2025) EllapsedTime: 59.7 seconds RetCode: 0 Status: OK PackageFile: pairedGSEA_1.7.0.tar.gz PackageFileSize: 604.5 KiB