Package: pairedGSEA Version: 1.7.0 Command: rm -rf pairedGSEA.buildbin-libdir && mkdir pairedGSEA.buildbin-libdir && /Users/biocbuild/BBS/utils/build-universal.sh pairedGSEA_1.7.0.tar.gz /Library/Frameworks/R.framework/Resources/bin/R pairedGSEA.buildbin-libdir StartedAt: 2025-02-20 22:29:12 -0500 (Thu, 20 Feb 2025) EndedAt: 2025-02-20 22:29:27 -0500 (Thu, 20 Feb 2025) EllapsedTime: 15.3 seconds RetCode: 0 Status: OK PackageFile: pairedGSEA_1.7.0.tgz PackageFileSize: 651.3 KiB