Package: paircompviz Version: 1.45.0 Command: /home/biocbuild/bbs-3.21-bioc/R/bin/R CMD check --install=check:paircompviz.install-out.txt --library=/home/biocbuild/bbs-3.21-bioc/R/site-library --timings paircompviz_1.45.0.tar.gz StartedAt: 2025-02-19 00:44:20 -0500 (Wed, 19 Feb 2025) EndedAt: 2025-02-19 00:45:35 -0500 (Wed, 19 Feb 2025) EllapsedTime: 75.1 seconds RetCode: 0 Status: OK CheckDir: paircompviz.Rcheck Warnings: 0