############################################################################## ############################################################################## ### ### Running command: ### ### /home/biocbuild/bbs-3.21-bioc/R/bin/R CMD INSTALL pageRank ### ############################################################################## ############################################################################## * installing to library ‘/home/biocbuild/bbs-3.21-bioc/R/site-library’ ERROR: dependency ‘motifmatchr’ is not available for package ‘pageRank’ Perhaps try a variation of: install.packages('motifmatchr') * removing ‘/home/biocbuild/bbs-3.21-bioc/R/site-library/pageRank’