Package: pageRank Version: 1.17.0 Command: /home/biocbuild/bbs-3.21-bioc/R/bin/R CMD check --install=check:pageRank.install-out.txt --library=/home/biocbuild/bbs-3.21-bioc/R/site-library --timings pageRank_1.17.0.tar.gz StartedAt: 2025-02-20 00:56:26 -0500 (Thu, 20 Feb 2025) EndedAt: 2025-02-20 01:05:53 -0500 (Thu, 20 Feb 2025) EllapsedTime: 567.1 seconds RetCode: 0 Status: OK CheckDir: pageRank.Rcheck Warnings: 0