Package: pageRank Version: 1.17.0 Command: /Library/Frameworks/R.framework/Resources/bin/R CMD build --keep-empty-dirs --no-resave-data pageRank StartedAt: 2025-02-19 17:12:42 -0500 (Wed, 19 Feb 2025) EndedAt: 2025-02-19 17:13:24 -0500 (Wed, 19 Feb 2025) EllapsedTime: 41.5 seconds RetCode: 0 Status: OK PackageFile: pageRank_1.17.0.tar.gz PackageFileSize: 122.4 KiB