Package: padma Version: 1.17.0 Command: /Library/Frameworks/R.framework/Resources/bin/R CMD INSTALL padma StartedAt: 2025-02-20 15:36:58 -0500 (Thu, 20 Feb 2025) EndedAt: 2025-02-20 15:37:35 -0500 (Thu, 20 Feb 2025) EllapsedTime: 37.0 seconds RetCode: 0 Status: OK