Package: padma Version: 1.17.0 Command: /Library/Frameworks/R.framework/Resources/bin/R CMD check --install=check:padma.install-out.txt --library=/Library/Frameworks/R.framework/Resources/library --no-vignettes --timings padma_1.17.0.tar.gz StartedAt: 2025-02-20 22:12:04 -0500 (Thu, 20 Feb 2025) EndedAt: 2025-02-20 22:18:02 -0500 (Thu, 20 Feb 2025) EllapsedTime: 357.7 seconds RetCode: 0 Status: OK CheckDir: padma.Rcheck Warnings: 0