Package: padma Version: 1.17.0 Command: /Library/Frameworks/R.framework/Resources/bin/R CMD build --keep-empty-dirs --no-resave-data padma StartedAt: 2025-02-20 17:41:42 -0500 (Thu, 20 Feb 2025) EndedAt: 2025-02-20 17:43:55 -0500 (Thu, 20 Feb 2025) EllapsedTime: 133.1 seconds RetCode: 0 Status: OK PackageFile: padma_1.17.0.tar.gz PackageFileSize: 1.156 MiB