Package: padma Version: 1.17.0 Command: /Library/Frameworks/R.framework/Resources/bin/R CMD INSTALL padma StartedAt: 2025-02-20 15:24:12 -0500 (Thu, 20 Feb 2025) EndedAt: 2025-02-20 15:24:23 -0500 (Thu, 20 Feb 2025) EllapsedTime: 10.5 seconds RetCode: 0 Status: OK