Package: pRolocGUI Version: 2.17.0 Command: E:\biocbuild\bbs-3.21-bioc\R\bin\R.exe CMD INSTALL pRolocGUI StartedAt: 2025-02-19 16:46:50 -0500 (Wed, 19 Feb 2025) EndedAt: 2025-02-19 16:47:54 -0500 (Wed, 19 Feb 2025) EllapsedTime: 64.4 seconds RetCode: 0 Status: OK