Package: pRolocGUI Version: 2.17.0 Command: chmod a+r pRolocGUI -R && E:\biocbuild\bbs-3.21-bioc\R\bin\R.exe CMD build --keep-empty-dirs --no-resave-data pRolocGUI StartedAt: 2025-02-19 20:54:29 -0500 (Wed, 19 Feb 2025) EndedAt: 2025-02-19 20:55:56 -0500 (Wed, 19 Feb 2025) EllapsedTime: 86.2 seconds RetCode: 0 Status: OK PackageFile: pRolocGUI_2.17.0.tar.gz PackageFileSize: 2.991 MiB