Package: pRolocGUI Version: 2.17.0 Command: rm -rf pRolocGUI.buildbin-libdir && mkdir pRolocGUI.buildbin-libdir && E:\biocbuild\bbs-3.21-bioc\R\bin\R.exe CMD INSTALL --build --library=pRolocGUI.buildbin-libdir pRolocGUI_2.17.0.tar.gz StartedAt: 2025-02-20 08:28:21 -0500 (Thu, 20 Feb 2025) EndedAt: 2025-02-20 08:29:19 -0500 (Thu, 20 Feb 2025) EllapsedTime: 57.4 seconds RetCode: 0 Status: OK PackageFile: pRolocGUI_2.17.0.zip PackageFileSize: 1.774 MiB