Package: pRolocGUI Version: 2.17.0 Command: /home/biocbuild/bbs-3.21-bioc/R/bin/R CMD INSTALL pRolocGUI StartedAt: 2025-02-19 15:37:10 -0500 (Wed, 19 Feb 2025) EndedAt: 2025-02-19 15:37:58 -0500 (Wed, 19 Feb 2025) EllapsedTime: 47.7 seconds RetCode: 0 Status: OK