Package: pRolocGUI Version: 2.17.0 Command: /home/biocbuild/bbs-3.21-bioc/R/bin/R CMD build --keep-empty-dirs --no-resave-data pRolocGUI StartedAt: 2025-02-19 18:42:09 -0500 (Wed, 19 Feb 2025) EndedAt: 2025-02-19 18:43:17 -0500 (Wed, 19 Feb 2025) EllapsedTime: 68.1 seconds RetCode: 0 Status: OK PackageFile: pRolocGUI_2.17.0.tar.gz PackageFileSize: 2.991 MiB