Package: orthos Version: 1.5.0 Command: E:\biocbuild\bbs-3.21-bioc\R\bin\R.exe CMD INSTALL orthos StartedAt: 2025-02-18 16:56:31 -0500 (Tue, 18 Feb 2025) EndedAt: 2025-02-18 16:57:06 -0500 (Tue, 18 Feb 2025) EllapsedTime: 35.2 seconds RetCode: 0 Status: OK