Package: orthogene Version: 1.13.0 Command: E:\biocbuild\bbs-3.21-bioc\R\bin\R.exe CMD INSTALL orthogene StartedAt: 2025-02-18 16:56:00 -0500 (Tue, 18 Feb 2025) EndedAt: 2025-02-18 16:56:41 -0500 (Tue, 18 Feb 2025) EllapsedTime: 40.9 seconds RetCode: 0 Status: OK