Package: orthogene Version: 1.13.0 Command: chmod a+r orthogene -R && E:\biocbuild\bbs-3.21-bioc\R\bin\R.exe CMD build --keep-empty-dirs --no-resave-data orthogene StartedAt: 2025-02-18 20:26:34 -0500 (Tue, 18 Feb 2025) EndedAt: 2025-02-18 20:27:31 -0500 (Tue, 18 Feb 2025) EllapsedTime: 56.9 seconds RetCode: 0 Status: OK PackageFile: orthogene_1.13.0.tar.gz PackageFileSize: 2.473 MiB