Package: orthogene Version: 1.13.0 Command: /Library/Frameworks/R.framework/Resources/bin/R CMD check --install=check:orthogene.install-out.txt --library=/Library/Frameworks/R.framework/Resources/library --no-vignettes --timings orthogene_1.13.0.tar.gz StartedAt: 2025-02-18 20:38:45 -0500 (Tue, 18 Feb 2025) EndedAt: 2025-02-18 20:43:08 -0500 (Tue, 18 Feb 2025) EllapsedTime: 263.1 seconds RetCode: 0 Status: OK CheckDir: orthogene.Rcheck Warnings: 0