Package: optimalFlow Version: 1.19.0 Command: chmod a+r optimalFlow -R && E:\biocbuild\bbs-3.21-bioc\R\bin\R.exe CMD build --keep-empty-dirs --no-resave-data optimalFlow StartedAt: 2025-02-18 20:25:42 -0500 (Tue, 18 Feb 2025) EndedAt: 2025-02-18 20:36:28 -0500 (Tue, 18 Feb 2025) EllapsedTime: 646.0 seconds RetCode: 0 Status: OK PackageFile: optimalFlow_1.19.0.tar.gz PackageFileSize: 935.5 KiB