Package: optimalFlow Version: 1.19.0 Command: /Library/Frameworks/R.framework/Resources/bin/R CMD INSTALL optimalFlow StartedAt: 2025-02-18 15:24:11 -0500 (Tue, 18 Feb 2025) EndedAt: 2025-02-18 15:24:44 -0500 (Tue, 18 Feb 2025) EllapsedTime: 33.4 seconds RetCode: 0 Status: OK