Package: oppti Version: 1.21.0 Command: rm -rf oppti.buildbin-libdir && mkdir oppti.buildbin-libdir && E:\biocbuild\bbs-3.21-bioc\R\bin\R.exe CMD INSTALL --build --library=oppti.buildbin-libdir oppti_1.21.0.tar.gz StartedAt: 2025-02-20 08:21:51 -0500 (Thu, 20 Feb 2025) EndedAt: 2025-02-20 08:22:09 -0500 (Thu, 20 Feb 2025) EllapsedTime: 17.9 seconds RetCode: 0 Status: OK PackageFile: oppti_1.21.0.zip PackageFileSize: 105.3 KiB