Package: oppti Version: 1.21.0 Command: /Library/Frameworks/R.framework/Resources/bin/R CMD check --install=check:oppti.install-out.txt --library=/Library/Frameworks/R.framework/Resources/library --no-vignettes --timings oppti_1.21.0.tar.gz StartedAt: 2025-02-19 20:37:54 -0500 (Wed, 19 Feb 2025) EndedAt: 2025-02-19 20:38:18 -0500 (Wed, 19 Feb 2025) EllapsedTime: 24.3 seconds RetCode: 0 Status: WARNINGS CheckDir: oppti.Rcheck Warnings: 1