Package: oppar Version: 1.35.0 Command: rm -rf oppar.buildbin-libdir && mkdir oppar.buildbin-libdir && E:\biocbuild\bbs-3.21-bioc\R\bin\R.exe CMD INSTALL --build --library=oppar.buildbin-libdir oppar_1.35.0.tar.gz StartedAt: 2025-02-21 08:42:35 -0500 (Fri, 21 Feb 2025) EndedAt: 2025-02-21 08:43:32 -0500 (Fri, 21 Feb 2025) EllapsedTime: 57.5 seconds RetCode: 0 Status: OK PackageFile: oppar_1.35.0.zip PackageFileSize: 5.242 MiB