Package: oppar Version: 1.35.0 Command: /Library/Frameworks/R.framework/Resources/bin/R CMD INSTALL oppar StartedAt: 2025-02-19 15:39:14 -0500 (Wed, 19 Feb 2025) EndedAt: 2025-02-19 15:40:05 -0500 (Wed, 19 Feb 2025) EllapsedTime: 51.1 seconds RetCode: 0 Status: OK