Package: oposSOM Version: 2.25.0 Command: /Library/Frameworks/R.framework/Resources/bin/R CMD INSTALL oposSOM StartedAt: 2025-02-19 15:13:34 -0500 (Wed, 19 Feb 2025) EndedAt: 2025-02-19 15:13:46 -0500 (Wed, 19 Feb 2025) EllapsedTime: 12.8 seconds RetCode: 0 Status: OK