Package: oposSOM Version: 2.25.0 Command: /Library/Frameworks/R.framework/Resources/bin/R CMD build --keep-empty-dirs --no-resave-data oposSOM StartedAt: 2025-02-19 17:10:56 -0500 (Wed, 19 Feb 2025) EndedAt: 2025-02-19 17:11:16 -0500 (Wed, 19 Feb 2025) EllapsedTime: 19.2 seconds RetCode: 0 Status: OK PackageFile: oposSOM_2.25.0.tar.gz PackageFileSize: 13.35 MiB