Package: openPrimeR Version: 1.29.0 Command: /home/biocbuild/bbs-3.21-bioc/R/bin/R CMD INSTALL openPrimeR StartedAt: 2025-02-18 15:46:59 -0500 (Tue, 18 Feb 2025) EndedAt: 2025-02-18 15:47:25 -0500 (Tue, 18 Feb 2025) EllapsedTime: 25.9 seconds RetCode: 0 Status: OK