Package: openPrimeR Version: 1.29.0 Command: /Library/Frameworks/R.framework/Resources/bin/R CMD build --keep-empty-dirs --no-resave-data openPrimeR StartedAt: 2025-02-18 17:10:46 -0500 (Tue, 18 Feb 2025) EndedAt: 2025-02-18 17:11:21 -0500 (Tue, 18 Feb 2025) EllapsedTime: 35.4 seconds RetCode: 0 Status: OK PackageFile: openPrimeR_1.29.0.tar.gz PackageFileSize: 2.146 MiB